{
 "currentVersion": 10.31,
 "serviceDescription": "KRNAP_DTM_2022_05m",
 "name": "vyskopis/KRNAP_DTM_2022_05m",
 "description": "KRNAP_DTM_2022_05m",
 "extent": {
  "xmin": -668125.1452635676,
  "ymin": -1002000.1189173013,
  "xmax": -628750.1452635676,
  "ymax": -968000.1189173013,
  "spatialReference": {
   "wkid": 102067,
   "latestWkid": 5514
  }
 },
 "initialExtent": {
  "xmin": -668125.1452635676,
  "ymin": -1002000.1189173013,
  "xmax": -628750.1452635676,
  "ymax": -968000.1189173013,
  "spatialReference": {
   "wkid": 102067,
   "latestWkid": 5514
  }
 },
 "fullExtent": {
  "xmin": -668125.1452635676,
  "ymin": -1002000.1189173013,
  "xmax": -628750.1452635676,
  "ymax": -968000.1189173013,
  "spatialReference": {
   "wkid": 102067,
   "latestWkid": 5514
  }
 },
 "pixelSizeX": 0.5,
 "pixelSizeY": 0.5,
 "bandCount": 1,
 "pixelType": "F32",
 "minPixelSize": 0,
 "maxPixelSize": 0,
 "copyrightText": "",
 "serviceDataType": "esriImageServiceDataTypeGeneric",
 "minValues": [
  335.8267822265625
 ],
 "maxValues": [
  1603.264404296875
 ],
 "meanValues": [
  791.6964205655245
 ],
 "stdvValues": [
  259.853292146705
 ],
 "objectIdField": "",
 "fields": [],
 "capabilities": "Image,Metadata,Mensuration",
 "defaultMosaicMethod": "Center",
 "allowedMosaicMethods": "",
 "sortField": "",
 "sortValue": null,
 "mosaicOperator": "First",
 "defaultCompressionQuality": 75,
 "defaultResamplingMethod": "Bilinear",
 "maxImageHeight": 4100,
 "maxImageWidth": 15000,
 "allowRasterFunction": true,
 "rasterFunctionInfos": [
  {
   "name": "None",
   "description": "A No-Op Function.",
   "help": ""
  },
  {
   "name": "Hillshade2",
   "description": "Stinovany model reliefu.",
   "help": ""
  }
 ],
 "rasterTypeInfos": [
  {
   "name": "Raster Dataset",
   "description": "Supports all ArcGIS Raster Datasets",
   "help": ""
  }
 ],
 "mensurationCapabilities": "Basic",
 "hasHistograms": true,
 "hasColormap": false,
 "hasRasterAttributeTable": false,
 "minScale": 0,
 "maxScale": 0,
 "exportTilesAllowed": false,
 "hasMultidimensions": false,
 "supportsStatistics": false,
 "supportsAdvancedQueries": false,
 "editFieldsInfo": null,
 "ownershipBasedAccessControlForRasters": null,
 "allowComputeTiePoints": false,
 "useStandardizedQueries": true,
 "advancedQueryCapabilities": {
  "useStandardizedQueries": true,
  "supportsStatistics": false,
  "supportsOrderBy": false,
  "supportsDistinct": false,
  "supportsPagination": false
 },
 "spatialReference": {
  "wkid": 102067,
  "latestWkid": 5514
 }
}
