View In:
ArcGIS JavaScript
ArcGIS Online map viewer
Google Earth
ArcMap
View Footprint In:
ArcGIS Online map viewer
Service Description: KRNAP_DTM_2022_05m
Name: vyskopis/KRNAP_DTM_2022_05m
Description: KRNAP_DTM_2022_05m
Single Fused Map Cache: false
Extent:
XMin: -668125.1452635676
YMin: -1002000.1189173013
XMax: -628750.1452635676
YMax: -968000.1189173013
Spatial Reference: 102067
(5514)
Initial Extent:
XMin: -668125.1452635676
YMin: -1002000.1189173013
XMax: -628750.1452635676
YMax: -968000.1189173013
Spatial Reference: 102067
(5514)
Full Extent:
XMin: -668125.1452635676
YMin: -1002000.1189173013
XMax: -628750.1452635676
YMax: -968000.1189173013
Spatial Reference: 102067
(5514)
Pixel Size X: 0.5
Pixel Size Y: 0.5
Band Count: 1
Pixel Type: F32
RasterFunction Infos: {"name":"None","description":"A No-Op Function.","help":""}, {"name":"Hillshade2","description":"Stinovany model reliefu.","help":""}
Mensuration Capabilities: Basic
Has Histograms: true
Has Colormap: false
Has Multi Dimensions : false
Rendering Rule:
Min Scale: 0
Max Scale: 0
Copyright Text:
Service Data Type: esriImageServiceDataTypeGeneric
Min Values: 335.8267822265625
Max Values: 1603.264404296875
Mean Values: 791.6964205655245
Standard Deviation Values: 259.853292146705
Object ID Field:
Fields:
None
Default Mosaic Method: Center
Allowed Mosaic Methods:
SortField:
SortValue: null
Mosaic Operator: First
Default Compression Quality: 75
Default Resampling Method: Bilinear
Max Record Count: null
Max Image Height: 4100
Max Image Width: 15000
Max Download Image Count: null
Max Mosaic Image Count: null
Allow Raster Function: true
Allow Compute TiePoints: false
Supports Statistics: false
Supports Advanced Queries: false
Use StandardizedQueries: true
Raster Type Infos:
Name: Raster Dataset
Description: Supports all ArcGIS Raster Datasets
Help:
Has Raster Attribute Table: false
Edit Fields Info: null
Ownership Based AccessControl For Rasters: null
Child Resources:
Info
Histograms
Key Properties
Legend
MultiDimensionalInfo
rasterFunctionInfos
Supported Operations:
Export Image
Identify
Measure
Compute Histograms
Get Samples
Compute Class Statistics