{
 "currentVersion": 10.31,
 "serviceDescription": "DSM Krkonose 2022 0,5m",
 "name": "vyskopis/KRNAP_DSM_2022_05m",
 "description": "DSM Krkonose 2022 0,5m",
 "extent": {
  "xmin": -668117.6452635676,
  "ymin": -1001994.0406893529,
  "xmax": -628921.1452635676,
  "ymax": -968236.5406893529,
  "spatialReference": {
   "wkid": 102067,
   "latestWkid": 5514
  }
 },
 "initialExtent": {
  "xmin": -668117.6452635676,
  "ymin": -1001994.0406893529,
  "xmax": -628921.1452635676,
  "ymax": -968236.5406893529,
  "spatialReference": {
   "wkid": 102067,
   "latestWkid": 5514
  }
 },
 "fullExtent": {
  "xmin": -668117.6452635676,
  "ymin": -1001994.0406893529,
  "xmax": -628921.1452635676,
  "ymax": -968236.5406893529,
  "spatialReference": {
   "wkid": 102067,
   "latestWkid": 5514
  }
 },
 "pixelSizeX": 0.5,
 "pixelSizeY": 0.5,
 "bandCount": 1,
 "pixelType": "F32",
 "minPixelSize": 0,
 "maxPixelSize": 0,
 "copyrightText": "",
 "serviceDataType": "esriImageServiceDataTypeGeneric",
 "minValues": [
  335.89202880859375
 ],
 "maxValues": [
  1617.84814453125
 ],
 "meanValues": [
  800.0709586003882
 ],
 "stdvValues": [
  258.95269326291697
 ],
 "objectIdField": "",
 "fields": [],
 "capabilities": "Image,Metadata,Mensuration",
 "defaultMosaicMethod": "Center",
 "allowedMosaicMethods": "",
 "sortField": "",
 "sortValue": null,
 "mosaicOperator": "First",
 "defaultCompressionQuality": 75,
 "defaultResamplingMethod": "Bilinear",
 "maxImageHeight": 4100,
 "maxImageWidth": 15000,
 "allowRasterFunction": true,
 "rasterFunctionInfos": [
  {
   "name": "None",
   "description": "A No-Op Function.",
   "help": ""
  },
  {
   "name": "Hillshade2",
   "description": "Stinovany model reliefu.",
   "help": ""
  }
 ],
 "rasterTypeInfos": [
  {
   "name": "Raster Dataset",
   "description": "Supports all ArcGIS Raster Datasets",
   "help": ""
  }
 ],
 "mensurationCapabilities": "Basic",
 "hasHistograms": true,
 "hasColormap": false,
 "hasRasterAttributeTable": false,
 "minScale": 0,
 "maxScale": 0,
 "exportTilesAllowed": false,
 "hasMultidimensions": false,
 "supportsStatistics": false,
 "supportsAdvancedQueries": false,
 "editFieldsInfo": null,
 "ownershipBasedAccessControlForRasters": null,
 "allowComputeTiePoints": false,
 "useStandardizedQueries": true,
 "advancedQueryCapabilities": {
  "useStandardizedQueries": true,
  "supportsStatistics": false,
  "supportsOrderBy": false,
  "supportsDistinct": false,
  "supportsPagination": false
 },
 "spatialReference": {
  "wkid": 102067,
  "latestWkid": 5514
 }
}
