View In:
ArcGIS JavaScript
ArcGIS Online map viewer
Google Earth
ArcMap
View Footprint In:
ArcGIS Online map viewer
Service Description: DSM Krkonose 2022 0,5m
Name: vyskopis/KRNAP_DSM_2022_05m
Description: DSM Krkonose 2022 0,5m
Single Fused Map Cache: false
Extent:
XMin: -668117.6452635676
YMin: -1001994.0406893529
XMax: -628921.1452635676
YMax: -968236.5406893529
Spatial Reference: 102067
(5514)
Initial Extent:
XMin: -668117.6452635676
YMin: -1001994.0406893529
XMax: -628921.1452635676
YMax: -968236.5406893529
Spatial Reference: 102067
(5514)
Full Extent:
XMin: -668117.6452635676
YMin: -1001994.0406893529
XMax: -628921.1452635676
YMax: -968236.5406893529
Spatial Reference: 102067
(5514)
Pixel Size X: 0.5
Pixel Size Y: 0.5
Band Count: 1
Pixel Type: F32
RasterFunction Infos: {"name":"None","description":"A No-Op Function.","help":""}, {"name":"Hillshade2","description":"Stinovany model reliefu.","help":""}
Mensuration Capabilities: Basic
Has Histograms: true
Has Colormap: false
Has Multi Dimensions : false
Rendering Rule:
Min Scale: 0
Max Scale: 0
Copyright Text:
Service Data Type: esriImageServiceDataTypeGeneric
Min Values: 335.89202880859375
Max Values: 1617.84814453125
Mean Values: 800.0709586003882
Standard Deviation Values: 258.95269326291697
Object ID Field:
Fields:
None
Default Mosaic Method: Center
Allowed Mosaic Methods:
SortField:
SortValue: null
Mosaic Operator: First
Default Compression Quality: 75
Default Resampling Method: Bilinear
Max Record Count: null
Max Image Height: 4100
Max Image Width: 15000
Max Download Image Count: null
Max Mosaic Image Count: null
Allow Raster Function: true
Allow Compute TiePoints: false
Supports Statistics: false
Supports Advanced Queries: false
Use StandardizedQueries: true
Raster Type Infos:
Name: Raster Dataset
Description: Supports all ArcGIS Raster Datasets
Help:
Has Raster Attribute Table: false
Edit Fields Info: null
Ownership Based AccessControl For Rasters: null
Child Resources:
Info
Histograms
Key Properties
Legend
MultiDimensionalInfo
rasterFunctionInfos
Supported Operations:
Export Image
Identify
Measure
Compute Histograms
Get Samples
Compute Class Statistics