{
 "currentVersion": 10.31,
 "serviceDescription": "KRNAP_DSM_2012_1m",
 "name": "vyskopis/KRNAP_DSM_2012_1m",
 "description": "KRNAP_DSM_2012_1m",
 "extent": {
  "xmin": -667380.38,
  "ymin": -1001007.8200000001,
  "xmax": -629782.38,
  "ymax": -972694.8200000001,
  "spatialReference": {
   "wkid": 102067,
   "latestWkid": 5514,
   "vcsWkid": 5786,
   "latestVcsWkid": 5786
  }
 },
 "initialExtent": {
  "xmin": -667380.38,
  "ymin": -1001007.8200000001,
  "xmax": -629782.38,
  "ymax": -972694.8200000001,
  "spatialReference": {
   "wkid": 102067,
   "latestWkid": 5514,
   "vcsWkid": 5786,
   "latestVcsWkid": 5786
  }
 },
 "fullExtent": {
  "xmin": -667380.38,
  "ymin": -1001007.8200000001,
  "xmax": -629782.38,
  "ymax": -972694.8200000001,
  "spatialReference": {
   "wkid": 102067,
   "latestWkid": 5514,
   "vcsWkid": 5786,
   "latestVcsWkid": 5786
  }
 },
 "pixelSizeX": 1,
 "pixelSizeY": 1,
 "bandCount": 1,
 "pixelType": "F32",
 "minPixelSize": 0,
 "maxPixelSize": 0,
 "copyrightText": "",
 "serviceDataType": "esriImageServiceDataTypeGeneric",
 "minValues": [
  382.44000244140625
 ],
 "maxValues": [
  1618.074951171875
 ],
 "meanValues": [
  850.7611112252654
 ],
 "stdvValues": [
  249.16739877539976
 ],
 "objectIdField": "",
 "fields": [],
 "capabilities": "Mensuration,Image,Metadata",
 "defaultMosaicMethod": "Center",
 "allowedMosaicMethods": "",
 "sortField": "",
 "sortValue": null,
 "mosaicOperator": "First",
 "defaultCompressionQuality": 75,
 "defaultResamplingMethod": "Bilinear",
 "maxImageHeight": 4100,
 "maxImageWidth": 15000,
 "allowRasterFunction": true,
 "rasterFunctionInfos": [
  {
   "name": "None",
   "description": "A No-Op Function.",
   "help": ""
  },
  {
   "name": "Hillshade2",
   "description": "Stinovany model reliefu.",
   "help": ""
  }
 ],
 "rasterTypeInfos": [
  {
   "name": "Raster Dataset",
   "description": "Supports all ArcGIS Raster Datasets",
   "help": ""
  }
 ],
 "mensurationCapabilities": "Basic",
 "hasHistograms": true,
 "hasColormap": false,
 "hasRasterAttributeTable": false,
 "minScale": 0,
 "maxScale": 0,
 "exportTilesAllowed": false,
 "hasMultidimensions": false,
 "supportsStatistics": false,
 "supportsAdvancedQueries": false,
 "editFieldsInfo": null,
 "ownershipBasedAccessControlForRasters": null,
 "allowComputeTiePoints": false,
 "useStandardizedQueries": true,
 "advancedQueryCapabilities": {
  "useStandardizedQueries": true,
  "supportsStatistics": false,
  "supportsOrderBy": false,
  "supportsDistinct": false,
  "supportsPagination": false
 },
 "spatialReference": {
  "wkid": 102067,
  "latestWkid": 5514,
  "vcsWkid": 5786,
  "latestVcsWkid": 5786
 }
}
