View In:
ArcGIS JavaScript
ArcGIS Online map viewer
Google Earth
ArcMap
View Footprint In:
ArcGIS Online map viewer
Service Description: KRNAP_DSM_2012_1m
Name: vyskopis/KRNAP_DSM_2012_1m
Description: KRNAP_DSM_2012_1m
Single Fused Map Cache: false
Extent:
XMin: -667380.38
YMin: -1001007.8200000001
XMax: -629782.38
YMax: -972694.8200000001
Spatial Reference: 102067
(5514)
Initial Extent:
XMin: -667380.38
YMin: -1001007.8200000001
XMax: -629782.38
YMax: -972694.8200000001
Spatial Reference: 102067
(5514)
Full Extent:
XMin: -667380.38
YMin: -1001007.8200000001
XMax: -629782.38
YMax: -972694.8200000001
Spatial Reference: 102067
(5514)
Pixel Size X: 1.0
Pixel Size Y: 1.0
Band Count: 1
Pixel Type: F32
RasterFunction Infos: {"name":"None","description":"A No-Op Function.","help":""}, {"name":"Hillshade2","description":"Stinovany model reliefu.","help":""}
Mensuration Capabilities: Basic
Has Histograms: true
Has Colormap: false
Has Multi Dimensions : false
Rendering Rule:
Min Scale: 0
Max Scale: 0
Copyright Text:
Service Data Type: esriImageServiceDataTypeGeneric
Min Values: 382.44000244140625
Max Values: 1618.074951171875
Mean Values: 850.7611112252654
Standard Deviation Values: 249.16739877539976
Object ID Field:
Fields:
None
Default Mosaic Method: Center
Allowed Mosaic Methods:
SortField:
SortValue: null
Mosaic Operator: First
Default Compression Quality: 75
Default Resampling Method: Bilinear
Max Record Count: null
Max Image Height: 4100
Max Image Width: 15000
Max Download Image Count: null
Max Mosaic Image Count: null
Allow Raster Function: true
Allow Compute TiePoints: false
Supports Statistics: false
Supports Advanced Queries: false
Use StandardizedQueries: true
Raster Type Infos:
Name: Raster Dataset
Description: Supports all ArcGIS Raster Datasets
Help:
Has Raster Attribute Table: false
Edit Fields Info: null
Ownership Based AccessControl For Rasters: null
Child Resources:
Info
Histograms
Key Properties
Legend
MultiDimensionalInfo
rasterFunctionInfos
Supported Operations:
Export Image
Identify
Measure
Compute Histograms
Get Samples
Compute Class Statistics