View In:
ArcGIS JavaScript
ArcGIS Online map viewer
Google Earth
ArcMap
View Footprint In:
ArcGIS Online map viewer
Service Description: KPN_DTM_1m
Name: vyskopis/KPN_DTM_1m
Description: KPN_DTM_1m
Single Fused Map Cache: false
Extent:
XMin: -663356.5285688855
YMin: -990061.8528428918
XMax: -627707.5285688855
YMax: -966898.8528428918
Spatial Reference: 102067
(5514)
Initial Extent:
XMin: -663356.5285688855
YMin: -990061.8528428918
XMax: -627707.5285688855
YMax: -966898.8528428918
Spatial Reference: 102067
(5514)
Full Extent:
XMin: -663356.5285688855
YMin: -990061.8528428918
XMax: -627707.5285688855
YMax: -966898.8528428918
Spatial Reference: 102067
(5514)
Pixel Size X: 1.0
Pixel Size Y: 1.0
Band Count: 1
Pixel Type: F32
RasterFunction Infos: {"name":"None","description":"A No-Op Function.","help":""}, {"name":"Hillshade2","description":"Stinovany model reliefu.","help":""}
Mensuration Capabilities: Basic
Has Histograms: true
Has Colormap: false
Has Multi Dimensions : false
Rendering Rule:
Min Scale: 0
Max Scale: 0
Copyright Text:
Service Data Type: esriImageServiceDataTypeGeneric
Min Values: 342.59552001953125
Max Values: 1602.87451171875
Mean Values: 819.5309439401991
Standard Deviation Values: 277.69311126986184
Object ID Field:
Fields:
None
Default Mosaic Method: Center
Allowed Mosaic Methods:
SortField:
SortValue: null
Mosaic Operator: First
Default Compression Quality: 75
Default Resampling Method: Bilinear
Max Record Count: null
Max Image Height: 4100
Max Image Width: 15000
Max Download Image Count: null
Max Mosaic Image Count: null
Allow Raster Function: true
Allow Compute TiePoints: false
Supports Statistics: false
Supports Advanced Queries: false
Use StandardizedQueries: true
Raster Type Infos:
Name: Raster Dataset
Description: Supports all ArcGIS Raster Datasets
Help:
Has Raster Attribute Table: false
Edit Fields Info: null
Ownership Based AccessControl For Rasters: null
Child Resources:
Info
Histograms
Key Properties
Legend
MultiDimensionalInfo
rasterFunctionInfos
Supported Operations:
Export Image
Identify
Measure
Compute Histograms
Get Samples
Compute Class Statistics