{
 "currentVersion": 10.31,
 "serviceDescription": "CUZK_DTM_5G_2m",
 "name": "vyskopis/CUZK_DTM_5G_2m",
 "description": "CUZK_DTM_5G_2m",
 "extent": {
  "xmin": -701368.6452635676,
  "ymin": -1037354.1189173013,
  "xmax": -591366.6452635676,
  "ymax": -937352.1189173013,
  "spatialReference": {
   "wkid": 102067,
   "latestWkid": 5514,
   "vcsWkid": 5705,
   "latestVcsWkid": 5705
  }
 },
 "initialExtent": {
  "xmin": -701368.6452635676,
  "ymin": -1037354.1189173013,
  "xmax": -591366.6452635676,
  "ymax": -937352.1189173013,
  "spatialReference": {
   "wkid": 102067,
   "latestWkid": 5514,
   "vcsWkid": 5705,
   "latestVcsWkid": 5705
  }
 },
 "fullExtent": {
  "xmin": -701368.6452635676,
  "ymin": -1037354.1189173013,
  "xmax": -591366.6452635676,
  "ymax": -937352.1189173013,
  "spatialReference": {
   "wkid": 102067,
   "latestWkid": 5514,
   "vcsWkid": 5705,
   "latestVcsWkid": 5705
  }
 },
 "pixelSizeX": 2,
 "pixelSizeY": 2,
 "bandCount": 1,
 "pixelType": "F32",
 "minPixelSize": 0,
 "maxPixelSize": 0,
 "copyrightText": "",
 "serviceDataType": "esriImageServiceDataTypeGeneric",
 "minValues": [
  182.4499969482422
 ],
 "maxValues": [
  1603.1300048828125
 ],
 "meanValues": [
  437.1834422732913
 ],
 "stdvValues": [
  208.2848094059055
 ],
 "objectIdField": "",
 "fields": [],
 "capabilities": "Mensuration,Image,Metadata",
 "defaultMosaicMethod": "Center",
 "allowedMosaicMethods": "",
 "sortField": "",
 "sortValue": null,
 "mosaicOperator": "First",
 "defaultCompressionQuality": 75,
 "defaultResamplingMethod": "Bilinear",
 "maxImageHeight": 4100,
 "maxImageWidth": 15000,
 "allowRasterFunction": true,
 "rasterFunctionInfos": [
  {
   "name": "None",
   "description": "A No-Op Function.",
   "help": ""
  },
  {
   "name": "Hillshade2",
   "description": "Stinovany model reliefu.",
   "help": ""
  }
 ],
 "rasterTypeInfos": [
  {
   "name": "Raster Dataset",
   "description": "Supports all ArcGIS Raster Datasets",
   "help": ""
  }
 ],
 "mensurationCapabilities": "Basic",
 "hasHistograms": true,
 "hasColormap": false,
 "hasRasterAttributeTable": false,
 "minScale": 0,
 "maxScale": 0,
 "exportTilesAllowed": false,
 "hasMultidimensions": false,
 "supportsStatistics": false,
 "supportsAdvancedQueries": false,
 "editFieldsInfo": null,
 "ownershipBasedAccessControlForRasters": null,
 "allowComputeTiePoints": false,
 "useStandardizedQueries": true,
 "advancedQueryCapabilities": {
  "useStandardizedQueries": true,
  "supportsStatistics": false,
  "supportsOrderBy": false,
  "supportsDistinct": false,
  "supportsPagination": false
 },
 "spatialReference": {
  "wkid": 102067,
  "latestWkid": 5514,
  "vcsWkid": 5705,
  "latestVcsWkid": 5705
 }
}
