View In:
ArcGIS JavaScript
ArcGIS Online map viewer
Google Earth
ArcMap
View Footprint In:
ArcGIS Online map viewer
Service Description: CUZK_DTM_5G_2m
Name: vyskopis/CUZK_DTM_5G_2m
Description: CUZK_DTM_5G_2m
Single Fused Map Cache: false
Extent:
XMin: -701368.6452635676
YMin: -1037354.1189173013
XMax: -591366.6452635676
YMax: -937352.1189173013
Spatial Reference: 102067
(5514)
Initial Extent:
XMin: -701368.6452635676
YMin: -1037354.1189173013
XMax: -591366.6452635676
YMax: -937352.1189173013
Spatial Reference: 102067
(5514)
Full Extent:
XMin: -701368.6452635676
YMin: -1037354.1189173013
XMax: -591366.6452635676
YMax: -937352.1189173013
Spatial Reference: 102067
(5514)
Pixel Size X: 2.0
Pixel Size Y: 2.0
Band Count: 1
Pixel Type: F32
RasterFunction Infos: {"name":"None","description":"A No-Op Function.","help":""}, {"name":"Hillshade2","description":"Stinovany model reliefu.","help":""}
Mensuration Capabilities: Basic
Has Histograms: true
Has Colormap: false
Has Multi Dimensions : false
Rendering Rule:
Min Scale: 0
Max Scale: 0
Copyright Text:
Service Data Type: esriImageServiceDataTypeGeneric
Min Values: 182.4499969482422
Max Values: 1603.1300048828125
Mean Values: 437.1834422732913
Standard Deviation Values: 208.2848094059055
Object ID Field:
Fields:
None
Default Mosaic Method: Center
Allowed Mosaic Methods:
SortField:
SortValue: null
Mosaic Operator: First
Default Compression Quality: 75
Default Resampling Method: Bilinear
Max Record Count: null
Max Image Height: 4100
Max Image Width: 15000
Max Download Image Count: null
Max Mosaic Image Count: null
Allow Raster Function: true
Allow Compute TiePoints: false
Supports Statistics: false
Supports Advanced Queries: false
Use StandardizedQueries: true
Raster Type Infos:
Name: Raster Dataset
Description: Supports all ArcGIS Raster Datasets
Help:
Has Raster Attribute Table: false
Edit Fields Info: null
Ownership Based AccessControl For Rasters: null
Child Resources:
Info
Histograms
Key Properties
Legend
MultiDimensionalInfo
rasterFunctionInfos
Supported Operations:
Export Image
Identify
Measure
Compute Histograms
Get Samples
Compute Class Statistics