View In:
ArcGIS JavaScript
ArcGIS Online map viewer
Google Earth
ArcMap
View Footprint In:
ArcGIS Online map viewer
Service Description: Strava.com - heatmap - ski
Name: rastroveMapy/strava_com_heatmap_ski
Description: Strava.com - heatmap - ski
Single Fused Map Cache: false
Extent:
XMin: 1645631.8845767789
YMin: 6494935.511875173
XMax: 1865584.2107143456
YMax: 6646018.075548867
Spatial Reference: 102100
(3857)
Initial Extent:
XMin: 1645631.8845767789
YMin: 6494935.511875173
XMax: 1865584.2107143456
YMax: 6646018.075548867
Spatial Reference: 102100
(3857)
Full Extent:
XMin: 1645631.8845767789
YMin: 6494935.511875173
XMax: 1865584.2107143456
YMax: 6646018.075548867
Spatial Reference: 102100
(3857)
Pixel Size X: 0.01866138385297604
Pixel Size Y: 0.018661383852976
Band Count: 3
Pixel Type: U8
RasterFunction Infos: N/A
Mensuration Capabilities: Basic
Has Histograms: false
Has Colormap: false
Has Multi Dimensions : false
Rendering Rule:
Min Scale: 0
Max Scale: 0
Copyright Text:
Service Data Type: esriImageServiceDataTypeRGB
Min Values: N/A
Max Values: N/A
Mean Values: N/A
Standard Deviation Values: N/A
Object ID Field:
Fields:
None
Default Mosaic Method: Center
Allowed Mosaic Methods:
SortField:
SortValue: null
Mosaic Operator: First
Default Compression Quality: 75
Default Resampling Method: Bilinear
Max Record Count: null
Max Image Height: 4100
Max Image Width: 15000
Max Download Image Count: null
Max Mosaic Image Count: null
Allow Raster Function: true
Allow Compute TiePoints: false
Supports Statistics: false
Supports Advanced Queries: false
Use StandardizedQueries: true
Raster Type Infos:
Name: Raster Dataset
Description: Supports all ArcGIS Raster Datasets
Help:
Has Raster Attribute Table: false
Edit Fields Info: null
Ownership Based AccessControl For Rasters: null
Child Resources:
Info
Key Properties
Legend
MultiDimensionalInfo
rasterFunctionInfos
Supported Operations:
Export Image
Identify
Measure
Compute Histograms
Get Samples
Compute Class Statistics