{
 "currentVersion": 10.31,
 "serviceDescription": "OFM2005",
 "mapName": "OFM2005",
 "description": "",
 "copyrightText": "",
 "supportsDynamicLayers": true,
 "layers": [
  {
   "id": 0,
   "name": "OFM2005",
   "parentLayerId": -1,
   "defaultVisibility": true,
   "subLayerIds": null,
   "minScale": 0,
   "maxScale": 0
  }
 ],
 "tables": [],
 "spatialReference": {
  "wkid": 102067,
  "latestWkid": 5514
 },
 "singleFusedMapCache": true,
 "tileInfo": {
  "rows": 256,
  "cols": 256,
  "dpi": 96,
  "format": "MIXED",
  "compressionQuality": 90,
  "origin": {
   "x": -33699800,
   "y": 33699800
  },
  "spatialReference": {
   "wkid": 102067,
   "latestWkid": 5514
  },
  "lods": [
   {
    "level": 0,
    "resolution": 64.00812801625604,
    "scale": 241920
   },
   {
    "level": 1,
    "resolution": 32.00406400812802,
    "scale": 120960
   },
   {
    "level": 2,
    "resolution": 16.00203200406401,
    "scale": 60480
   },
   {
    "level": 3,
    "resolution": 8.001016002032005,
    "scale": 30240
   },
   {
    "level": 4,
    "resolution": 4.000508001016002,
    "scale": 15120
   },
   {
    "level": 5,
    "resolution": 2.000254000508001,
    "scale": 7560
   },
   {
    "level": 6,
    "resolution": 1.0001270002540006,
    "scale": 3780
   },
   {
    "level": 7,
    "resolution": 0.5000635001270003,
    "scale": 1890
   },
   {
    "level": 8,
    "resolution": 0.25003175006350015,
    "scale": 945
   }
  ]
 },
 "initialExtent": {
  "xmin": -670749.9999999999,
  "ymin": -994910.7611548556,
  "xmax": -626749.9999999999,
  "ymax": -967386.7016622922,
  "spatialReference": {
   "wkid": 102067,
   "latestWkid": 5514
  }
 },
 "fullExtent": {
  "xmin": -668750,
  "ymin": -1002000,
  "xmax": -628750,
  "ymax": -972000,
  "spatialReference": {
   "wkid": 102067,
   "latestWkid": 5514
  }
 },
 "minScale": 241920,
 "maxScale": 945,
 "units": "esriMeters",
 "supportedImageFormatTypes": "PNG32,PNG24,PNG,JPG,DIB,TIFF,EMF,PS,PDF,GIF,SVG,SVGZ,BMP",
 "documentInfo": {
  "Title": "",
  "Author": "",
  "Comments": "",
  "Subject": "",
  "Category": "",
  "AntialiasingMode": "None",
  "TextAntialiasingMode": "Force",
  "Keywords": "OFM2005"
 },
 "capabilities": "Map,Query,Data",
 "supportedQueryFormats": "JSON, AMF",
 "exportTilesAllowed": false,
 "maxRecordCount": 1000,
 "maxImageHeight": 4096,
 "maxImageWidth": 4096,
 "supportedExtensions": ""
}
